BEGIN:VCALENDAR
VERSION:2.0
PRODID:-//Akademija gibanja in veščin - Ando Gym Kranj - ECPv6.2.8.2//NONSGML v1.0//EN
CALSCALE:GREGORIAN
METHOD:PUBLISH
X-WR-CALNAME:Akademija gibanja in veščin - Ando Gym Kranj
X-ORIGINAL-URL:https://www.andogymkranj.si
X-WR-CALDESC:Events for Akademija gibanja in veščin - Ando Gym Kranj
REFRESH-INTERVAL;VALUE=DURATION:PT1H
X-Robots-Tag:noindex
X-PUBLISHED-TTL:PT1H
BEGIN:VTIMEZONE
TZID:UTC
BEGIN:STANDARD
TZOFFSETFROM:+0000
TZOFFSETTO:+0000
TZNAME:UTC
DTSTART:20200101T000000
END:STANDARD
END:VTIMEZONE
BEGIN:VEVENT
DTSTART;TZID=UTC:20200901T200000
DTEND;TZID=UTC:20200901T233000
DTSTAMP:20260422T010605
CREATED:20180413T174003Z
LAST-MODIFIED:20180413T174003Z
UID:282-1598990400-1599003000@www.andogymkranj.si
SUMMARY:Championnat de Belgique 2019
DESCRIPTION:Martial arts have crossed over into sports when forms of sparring become competitive\, becoming a sport in its own right that is dissociated from the original combative origin\, such as with western fencing. The Summer Olympic Games includes judo\, taekwondo\, western archery\, boxing\, javelin\, wrestling. \nSome schools believe that competition breeds better and more efficient practitioners\, and gives a sense of good sportsmanship. Others believe that the rules under which competition takes place have diminished the combat effectiveness of martial arts or encourage a kind of practice which focuses on winning trophies rather than a focus such as cultivating a particular moral character. \nSome martial artists compete in non-sparring competitions such as breaking or choreographed routines of techniques such aspoomse\, kata and aka\, or modern variations of the martial arts which include dance-influenced competitions such as tricking. .
URL:https://www.andogymkranj.si/event/championnat-de-belgique-2019/
LOCATION:1[1]
CATEGORIES:Nightlife
ATTACH;FMTTYPE=image/jpeg:https://www.andogymkranj.si/wp-content/uploads/2019/02/5.jpg
END:VEVENT
BEGIN:VEVENT
DTSTART;VALUE=DATE:20200823
DTEND;VALUE=DATE:20200824
DTSTAMP:20260422T010605
CREATED:20180413T174010Z
LAST-MODIFIED:20180413T174010Z
UID:284-1598140800-1598227199@www.andogymkranj.si
SUMMARY:London Championships 2019
DESCRIPTION:Rules for sparring vary between art and organization but can generally be divided into light-contact\, medium-contact\, and full-contact variants\, reflecting the amount of force that should be used on an opponent. \nVarious forms and sparring are commonly used in martial art exhibitions and tournaments. Some competitions pit practitioners of different disciplines against each other using a common set of rules\, these are referred to as mixed martial arts competitions. Rules for sparring vary between art and organization but can generally be divided into light-contact\, medium-contact\, and full-contact variants\, reflecting the amount of force that should be used on an opponent.
URL:https://www.andogymkranj.si/event/london-championships-2019/
CATEGORIES:Family Fun
ATTACH;FMTTYPE=image/jpeg:https://www.andogymkranj.si/wp-content/uploads/2018/04/4-2.jpg
END:VEVENT
BEGIN:VEVENT
DTSTART;TZID=UTC:20200814T100000
DTEND;TZID=UTC:20200814T200000
DTSTAMP:20260422T010605
CREATED:20180413T173940Z
LAST-MODIFIED:20180413T173940Z
UID:1545-1597399200-1597435200@www.andogymkranj.si
SUMMARY:UCF National Championship
DESCRIPTION:Some competitions pit practitioners of different disciplines against each other using a common set of rules\, these are referred to as mixed martial arts competitions. \nSparring are commonly used in martial art exhibitions and tournaments. Some competitions pit practitioners of different disciplines against each other using a common set of rules\, these are referred to as mixed martial arts competitions. Rules for sparring vary between art and organization but can generally be divided into light-contact\, medium-contact\, and full-contact variants\, reflecting the amount of force that should be used on an opponent.
URL:https://www.andogymkranj.si/event/ucf-national-championship/
LOCATION:3[1]
CATEGORIES:Family Fun
ATTACH;FMTTYPE=image/jpeg:https://www.andogymkranj.si/wp-content/uploads/2018/04/2-2.jpg
END:VEVENT
BEGIN:VEVENT
DTSTART;TZID=UTC:20200802T200000
DTEND;TZID=UTC:20200803T010000
DTSTAMP:20260422T010605
CREATED:20180413T174007Z
LAST-MODIFIED:20180413T174007Z
UID:1301-1596398400-1596416400@www.andogymkranj.si
SUMMARY:Dutch Masters Technical 2019
DESCRIPTION:These types of sparring restrict the amount of force that may be used to hit an opponent\, in the case of light sparring this is usually to ‘touch’ contact\, e.g. a punch should be ‘pulled’ as soon as or before contact is made. In medium-contact (sometimes referred to as semi-contact) the punch would not be ‘pulled’ but not hit with full force. As the amount of force used is restricted\, the aim of these types of sparring is not to knock out an opponent; a point system is used in competitions.
URL:https://www.andogymkranj.si/event/dutch-masters-technical-2019/
LOCATION:Footer1
CATEGORIES:Nightlife,Party
ATTACH;FMTTYPE=image/jpeg:https://www.andogymkranj.si/wp-content/uploads/2018/04/3-2.jpg
END:VEVENT
BEGIN:VEVENT
DTSTART;TZID=UTC:20200722T170000
DTEND;TZID=UTC:20200723T180000
DTSTAMP:20260422T010605
CREATED:20180413T173949Z
LAST-MODIFIED:20180413T173949Z
UID:1546-1595437200-1595527200@www.andogymkranj.si
SUMMARY:7th Australian Open
DESCRIPTION:In some styles (such as fencing and some styles of taekwondo sparring)\, competitors score points based on the landing of a single technique or strike as judged by the referee\, whereupon the referee will briefly stop the match\, award a point\, then restart the match. Alternatively\, sparring may continue with the point noted by the judges. Some critics of point sparring feel that this method of training teaches habits that result in lower combat effectiveness.
URL:https://www.andogymkranj.si/event/7th-australian-open/
LOCATION:bg13.jpg
CATEGORIES:Family Fun
ATTACH;FMTTYPE=image/jpeg:https://www.andogymkranj.si/wp-content/uploads/2019/02/2.jpg
ORGANIZER;CN="Sammy Sosa":MAILTO:baseball@hotmail.com
END:VEVENT
BEGIN:VEVENT
DTSTART;TZID=UTC:20200707T133000
DTEND;TZID=UTC:20200707T153000
DTSTAMP:20260422T010605
CREATED:20180413T173956Z
LAST-MODIFIED:20180413T173956Z
UID:1547-1594128600-1594135800@www.andogymkranj.si
SUMMARY:NWTU Rheinland Pokal 2019
DESCRIPTION:Various forms and sparring are commonly used in martial art exhibitions and tournaments. Some competitions pit practitioners of different disciplines against each other using a common set of rules\, these are referred to as mixed martial arts competitions. Rules for sparring vary between art and organization but can generally be divided into light-contact\, medium-contact\, and full-contact variants\, reflecting the amount of force that should be used on an opponent.
URL:https://www.andogymkranj.si/event/nwtu-rheinland-pokal-2019/
LOCATION:The Corn Palace\, 601 N Main St\, Mitchell\, SD\, 57301\, United States
CATEGORIES:Family Fun
ATTACH;FMTTYPE=image/jpeg:https://www.andogymkranj.si/wp-content/uploads/2019/02/1-1.jpg
ORGANIZER;CN="Sammy Sosa":MAILTO:baseball@hotmail.com
END:VEVENT
BEGIN:VEVENT
DTSTART;TZID=UTC:20200706T180000
DTEND;TZID=UTC:20200706T203000
DTSTAMP:20260422T010605
CREATED:20180413T173936Z
LAST-MODIFIED:20180413T173936Z
UID:1298-1594058400-1594067400@www.andogymkranj.si
SUMMARY:7th Open European Clubs Championships 2019 G1
DESCRIPTION:Testing or evaluation is important to martial artists of many disciplines who wish to determine their progression or own level of skill in specific contexts. Students often undergo periodic testing and grading by their own teacher in order to advance to a higher level of recognized achievement\, such as a different belt color or title. The type of testing used varies from system to system but may include forms or sparring.
URL:https://www.andogymkranj.si/event/7th-open-european-clubs-championships-2019-g1/
LOCATION:The Corn Palace\, 601 N Main St\, Mitchell\, SD\, 57301\, United States
CATEGORIES:Party
ATTACH;FMTTYPE=image/jpeg:https://www.andogymkranj.si/wp-content/uploads/2019/02/5.jpg
END:VEVENT
BEGIN:VEVENT
DTSTART;VALUE=DATE:20200701
DTEND;VALUE=DATE:20200702
DTSTAMP:20260422T010605
CREATED:20180413T173945Z
LAST-MODIFIED:20180413T173945Z
UID:1299-1593561600-1593647999@www.andogymkranj.si
SUMMARY:Team Warrior 1-2-1
DESCRIPTION:Testing or evaluation is important to martial artists of many disciplines who wish to determine their progression or own level of skill in specific contexts. Students often undergo periodic testing and grading by their own teacher in order to advance to a higher level of recognized achievement\, such as a different belt color or title. The type of testing used varies from system to system but may include forms or sparring.
URL:https://www.andogymkranj.si/event/team-warrior-1-2-1/
LOCATION:3[1]
CATEGORIES:Family Fun
ATTACH;FMTTYPE=image/jpeg:https://www.andogymkranj.si/wp-content/uploads/2019/02/6.jpg
END:VEVENT
BEGIN:VEVENT
DTSTART;TZID=UTC:20200625T153000
DTEND;TZID=UTC:20200625T170000
DTSTAMP:20260422T010605
CREATED:20180413T173932Z
LAST-MODIFIED:20180413T173932Z
UID:1544-1593099000-1593104400@www.andogymkranj.si
SUMMARY:Egypt Open 2019 - G2
DESCRIPTION:Why do you think that she is a witch? He hasn’t got stuff all over him. Well\, I didn’t vote for you. A newt? Look\, my liege! I don’t want to talk to you no more\, you empty-headed animal food trough water! I fart in your general direction! Your mother was a hamster and your father smelt of elderberries! Now leave before I am forced to taunt you a second time!
URL:https://www.andogymkranj.si/event/egypt-open-2019-g2/
LOCATION:2[1]
CATEGORIES:Party
ATTACH;FMTTYPE=image/jpeg:https://www.andogymkranj.si/wp-content/uploads/2019/02/3.jpg
END:VEVENT
BEGIN:VEVENT
DTSTART;TZID=UTC:20200615T120000
DTEND;TZID=UTC:20200615T133000
DTSTAMP:20260422T010605
CREATED:20180413T174000Z
LAST-MODIFIED:20180413T174000Z
UID:1300-1592222400-1592227800@www.andogymkranj.si
SUMMARY:Board Meeting
DESCRIPTION:I have traced the Rebel spies to her. Now she is my only link to finding their secret base. What?! I care. So\, what do you think of her\, Han? The Force is strong with this one. I have you now. But with the blast shield down\, I can’t even see! How am I supposed to fight? Red Five standing by.
URL:https://www.andogymkranj.si/event/board-meeting/
CATEGORIES:Meeting
ATTACH;FMTTYPE=image/jpeg:https://www.andogymkranj.si/wp-content/uploads/2019/02/1-1.jpg
END:VEVENT
END:VCALENDAR